BEGIN:VCALENDAR
VERSION:2.0
PRODID:-//Apamagis - ECPv5.16.4//NONSGML v1.0//EN
CALSCALE:GREGORIAN
METHOD:PUBLISH
X-WR-CALNAME:Apamagis
X-ORIGINAL-URL:https://apamagis.org.br
X-WR-CALDESC:Eventos para Apamagis
BEGIN:VTIMEZONE
TZID:America/Sao_Paulo
BEGIN:STANDARD
TZOFFSETFROM:-0300
TZOFFSETTO:-0300
TZNAME:-03
DTSTART:20260101T000000
END:STANDARD
END:VTIMEZONE
BEGIN:VEVENT
DTSTART;VALUE=DATE:20260430
DTEND;VALUE=DATE:20260501
DTSTAMP:20260423T090034
CREATED:20260422T194213Z
LAST-MODIFIED:20260422T194559Z
UID:102336-1777507200-1777593599@apamagis.org.br
SUMMARY:Apresentação do Coral da Apamagis no TJ
DESCRIPTION:
URL:https://apamagis.org.br/evento/apresentacao-do-coral-da-apamagis-no-tj/
CATEGORIES:Eventos
ATTACH;FMTTYPE=image/jpeg:https://apamagis.org.br/wp-content/uploads/2026/04/Banner_Eventos_PPA-TJ.jpeg
END:VEVENT
END:VCALENDAR